BEGIN:VCALENDAR
VERSION:2.0
PRODID:-//Wellington Antique Arms Association - ECPv6.8.1//NONSGML v1.0//EN
CALSCALE:GREGORIAN
METHOD:PUBLISH
X-WR-CALNAME:Wellington Antique Arms Association
X-ORIGINAL-URL:https://www.wellingtonantiquearms.org.nz
X-WR-CALDESC:Events for Wellington Antique Arms Association
REFRESH-INTERVAL;VALUE=DURATION:PT1H
X-Robots-Tag:noindex
X-PUBLISHED-TTL:PT1H
BEGIN:VTIMEZONE
TZID:UTC
BEGIN:STANDARD
TZOFFSETFROM:+0000
TZOFFSETTO:+0000
TZNAME:UTC
DTSTART:20220101T000000
END:STANDARD
END:VTIMEZONE
BEGIN:VEVENT
DTSTART;TZID=UTC:20231210T090000
DTEND;TZID=UTC:20231210T160000
DTSTAMP:20260423T102739
CREATED:20221009T012344Z
LAST-MODIFIED:20221009T012344Z
UID:689-1702198800-1702224000@www.wellingtonantiquearms.org.nz
SUMMARY:Range Day - 10th December
DESCRIPTION:As a club\, we run organized range shooting days over the summer months. These are held at the Hutt Valley Deer Stalkers Range in Kaitoke. \nWe have members attending that are experienced in all aspects of firearms safety. We also have members that offer their services as range officers. Range Officer/s ensure that Firearms are not loaded while range is not open for shooting. Firearms are in rakes. All shooters have the appropriate safety equipment. They advise shooters when the range is open and when they are able to load their firearms and commence firing whilst ensuring all are shooting in safe and professional manner. \nGenerally\, the days are quite informal with members using an amazing array of Rifles from many Era’s ranging from the 1900’s military rifles to the latest models of modern sporting rifles. \nIn February\, we hold a family fun day. We have a series of events for all the family. Many of these events have trophies that are a family fun day. We have a series of events for all the family. Many of these events have trophies that are contested for amongst the members that qualify for that particular event. \nThinking of coming along??? Remember good solid footwear\, warm outdoor clothing\, Drink\, and nibbles to kerb the hunger and very importantly Eye and Ear protection.
URL:https://www.wellingtonantiquearms.org.nz/event/range-day-10th-december/
LOCATION:Hutt Valley Deer Stalkers Range\, Kaitoke\, New Zealand
CATEGORIES:Range Day
ATTACH;FMTTYPE=image/jpeg:https://www.wellingtonantiquearms.org.nz/wp-content/uploads/2022/09/IMG_4008.jpg
END:VEVENT
BEGIN:VEVENT
DTSTART;TZID=UTC:20231112T090000
DTEND;TZID=UTC:20231112T160000
DTSTAMP:20260423T102739
CREATED:20221009T012322Z
LAST-MODIFIED:20221009T012322Z
UID:687-1699779600-1699804800@www.wellingtonantiquearms.org.nz
SUMMARY:Range Day - 12th November
DESCRIPTION:As a club\, we run organized range shooting days over the summer months. These are held at the Hutt Valley Deer Stalkers Range in Kaitoke. \nWe have members attending that are experienced in all aspects of firearms safety. We also have members that offer their services as range officers. Range Officer/s ensure that Firearms are not loaded while range is not open for shooting. Firearms are in rakes. All shooters have the appropriate safety equipment. They advise shooters when the range is open and when they are able to load their firearms and commence firing whilst ensuring all are shooting in safe and professional manner. \nGenerally\, the days are quite informal with members using an amazing array of Rifles from many Era’s ranging from the 1900’s military rifles to the latest models of modern sporting rifles. \nIn February\, we hold a family fun day. We have a series of events for all the family. Many of these events have trophies that are a family fun day. We have a series of events for all the family. Many of these events have trophies that are contested for amongst the members that qualify for that particular event. \nThinking of coming along??? Remember good solid footwear\, warm outdoor clothing\, Drink\, and nibbles to kerb the hunger and very importantly Eye and Ear protection.
URL:https://www.wellingtonantiquearms.org.nz/event/range-day-12th-november/
LOCATION:Hutt Valley Deer Stalkers Range\, Kaitoke\, New Zealand
CATEGORIES:Range Day
ATTACH;FMTTYPE=image/jpeg:https://www.wellingtonantiquearms.org.nz/wp-content/uploads/2022/09/IMG_4008.jpg
END:VEVENT
BEGIN:VEVENT
DTSTART;TZID=UTC:20231015T090000
DTEND;TZID=UTC:20231015T160000
DTSTAMP:20260423T102739
CREATED:20221009T012305Z
LAST-MODIFIED:20221009T012305Z
UID:685-1697360400-1697385600@www.wellingtonantiquearms.org.nz
SUMMARY:Range Day - 15th October
DESCRIPTION:As a club\, we run organized range shooting days over the summer months. These are held at the Hutt Valley Deer Stalkers Range in Kaitoke. \nWe have members attending that are experienced in all aspects of firearms safety. We also have members that offer their services as range officers. Range Officer/s ensure that Firearms are not loaded while range is not open for shooting. Firearms are in rakes. All shooters have the appropriate safety equipment. They advise shooters when the range is open and when they are able to load their firearms and commence firing whilst ensuring all are shooting in safe and professional manner. \nGenerally\, the days are quite informal with members using an amazing array of Rifles from many Era’s ranging from the 1900’s military rifles to the latest models of modern sporting rifles. \nIn February\, we hold a family fun day. We have a series of events for all the family. Many of these events have trophies that are a family fun day. We have a series of events for all the family. Many of these events have trophies that are contested for amongst the members that qualify for that particular event. \nThinking of coming along??? Remember good solid footwear\, warm outdoor clothing\, Drink\, and nibbles to kerb the hunger and very importantly Eye and Ear protection.
URL:https://www.wellingtonantiquearms.org.nz/event/range-day-15th-october/
LOCATION:Hutt Valley Deer Stalkers Range\, Kaitoke\, New Zealand
CATEGORIES:Range Day
ATTACH;FMTTYPE=image/jpeg:https://www.wellingtonantiquearms.org.nz/wp-content/uploads/2022/09/IMG_4008.jpg
END:VEVENT
BEGIN:VEVENT
DTSTART;TZID=UTC:20230910T090000
DTEND;TZID=UTC:20230910T160000
DTSTAMP:20260423T102739
CREATED:20221009T012237Z
LAST-MODIFIED:20221009T012237Z
UID:683-1694336400-1694361600@www.wellingtonantiquearms.org.nz
SUMMARY:Range Day - 10th September
DESCRIPTION:As a club\, we run organized range shooting days over the summer months. These are held at the Hutt Valley Deer Stalkers Range in Kaitoke. \nWe have members attending that are experienced in all aspects of firearms safety. We also have members that offer their services as range officers. Range Officer/s ensure that Firearms are not loaded while range is not open for shooting. Firearms are in rakes. All shooters have the appropriate safety equipment. They advise shooters when the range is open and when they are able to load their firearms and commence firing whilst ensuring all are shooting in safe and professional manner. \nGenerally\, the days are quite informal with members using an amazing array of Rifles from many Era’s ranging from the 1900’s military rifles to the latest models of modern sporting rifles. \nIn February\, we hold a family fun day. We have a series of events for all the family. Many of these events have trophies that are a family fun day. We have a series of events for all the family. Many of these events have trophies that are contested for amongst the members that qualify for that particular event. \nThinking of coming along??? Remember good solid footwear\, warm outdoor clothing\, Drink\, and nibbles to kerb the hunger and very importantly Eye and Ear protection.
URL:https://www.wellingtonantiquearms.org.nz/event/range-day-10th-september/
LOCATION:Hutt Valley Deer Stalkers Range\, Kaitoke\, New Zealand
CATEGORIES:Range Day
ATTACH;FMTTYPE=image/jpeg:https://www.wellingtonantiquearms.org.nz/wp-content/uploads/2022/09/IMG_4008.jpg
END:VEVENT
BEGIN:VEVENT
DTSTART;TZID=UTC:20230409T090000
DTEND;TZID=UTC:20230409T160000
DTSTAMP:20260423T102739
CREATED:20221009T012156Z
LAST-MODIFIED:20221009T012156Z
UID:681-1681030800-1681056000@www.wellingtonantiquearms.org.nz
SUMMARY:Range Day - 9th April
DESCRIPTION:As a club\, we run organized range shooting days over the summer months. These are held at the Hutt Valley Deer Stalkers Range in Kaitoke. \nWe have members attending that are experienced in all aspects of firearms safety. We also have members that offer their services as range officers. Range Officer/s ensure that Firearms are not loaded while range is not open for shooting. Firearms are in rakes. All shooters have the appropriate safety equipment. They advise shooters when the range is open and when they are able to load their firearms and commence firing whilst ensuring all are shooting in safe and professional manner. \nGenerally\, the days are quite informal with members using an amazing array of Rifles from many Era’s ranging from the 1900’s military rifles to the latest models of modern sporting rifles. \nIn February\, we hold a family fun day. We have a series of events for all the family. Many of these events have trophies that are a family fun day. We have a series of events for all the family. Many of these events have trophies that are contested for amongst the members that qualify for that particular event. \nThinking of coming along??? Remember good solid footwear\, warm outdoor clothing\, Drink\, and nibbles to kerb the hunger and very importantly Eye and Ear protection.
URL:https://www.wellingtonantiquearms.org.nz/event/range-day-9th-april/
LOCATION:Hutt Valley Deer Stalkers Range\, Kaitoke\, New Zealand
CATEGORIES:Range Day
ATTACH;FMTTYPE=image/jpeg:https://www.wellingtonantiquearms.org.nz/wp-content/uploads/2022/09/IMG_4008.jpg
END:VEVENT
BEGIN:VEVENT
DTSTART;TZID=UTC:20230312T090000
DTEND;TZID=UTC:20230312T160000
DTSTAMP:20260423T102739
CREATED:20221009T012130Z
LAST-MODIFIED:20221009T012130Z
UID:679-1678611600-1678636800@www.wellingtonantiquearms.org.nz
SUMMARY:Range Day - 12th March
DESCRIPTION:As a club\, we run organized range shooting days over the summer months. These are held at the Hutt Valley Deer Stalkers Range in Kaitoke. \nWe have members attending that are experienced in all aspects of firearms safety. We also have members that offer their services as range officers. Range Officer/s ensure that Firearms are not loaded while range is not open for shooting. Firearms are in rakes. All shooters have the appropriate safety equipment. They advise shooters when the range is open and when they are able to load their firearms and commence firing whilst ensuring all are shooting in safe and professional manner. \nGenerally\, the days are quite informal with members using an amazing array of Rifles from many Era’s ranging from the 1900’s military rifles to the latest models of modern sporting rifles. \nIn February\, we hold a family fun day. We have a series of events for all the family. Many of these events have trophies that are a family fun day. We have a series of events for all the family. Many of these events have trophies that are contested for amongst the members that qualify for that particular event. \nThinking of coming along??? Remember good solid footwear\, warm outdoor clothing\, Drink\, and nibbles to kerb the hunger and very importantly Eye and Ear protection.
URL:https://www.wellingtonantiquearms.org.nz/event/range-day-12th-march/
LOCATION:Hutt Valley Deer Stalkers Range\, Kaitoke\, New Zealand
CATEGORIES:Range Day
ATTACH;FMTTYPE=image/jpeg:https://www.wellingtonantiquearms.org.nz/wp-content/uploads/2022/09/IMG_4008.jpg
END:VEVENT
BEGIN:VEVENT
DTSTART;TZID=UTC:20230212T090000
DTEND;TZID=UTC:20230212T160000
DTSTAMP:20260423T102739
CREATED:20221009T011138Z
LAST-MODIFIED:20221009T011138Z
UID:677-1676192400-1676217600@www.wellingtonantiquearms.org.nz
SUMMARY:Range Day - 12th Feb
DESCRIPTION:As a club\, we run organized range shooting days over the summer months. These are held at the Hutt Valley Deer Stalkers Range in Kaitoke. \nWe have members attending that are experienced in all aspects of firearms safety. We also have members that offer their services as range officers. Range Officer/s ensure that Firearms are not loaded while range is not open for shooting. Firearms are in rakes. All shooters have the appropriate safety equipment. They advise shooters when the range is open and when they are able to load their firearms and commence firing whilst ensuring all are shooting in safe and professional manner. \nGenerally\, the days are quite informal with members using an amazing array of Rifles from many Era’s ranging from the 1900’s military rifles to the latest models of modern sporting rifles. \nIn February\, we hold a family fun day. We have a series of events for all the family. Many of these events have trophies that are a family fun day. We have a series of events for all the family. Many of these events have trophies that are contested for amongst the members that qualify for that particular event. \nThinking of coming along??? Remember good solid footwear\, warm outdoor clothing\, Drink\, and nibbles to kerb the hunger and very importantly Eye and Ear protection.
URL:https://www.wellingtonantiquearms.org.nz/event/range-day-12th-feb/
LOCATION:Hutt Valley Deer Stalkers Range\, Kaitoke\, New Zealand
CATEGORIES:Range Day
ATTACH;FMTTYPE=image/jpeg:https://www.wellingtonantiquearms.org.nz/wp-content/uploads/2022/09/IMG_4008.jpg
END:VEVENT
BEGIN:VEVENT
DTSTART;TZID=UTC:20221218T090000
DTEND;TZID=UTC:20221218T160000
DTSTAMP:20260423T102739
CREATED:20220920T212346Z
LAST-MODIFIED:20220920T212346Z
UID:656-1671354000-1671379200@www.wellingtonantiquearms.org.nz
SUMMARY:Range Day - 18th December
DESCRIPTION:As a club\, we run organized range shooting days over the summer months. These are held at the Hutt Valley Deer Stalkers Range in Kaitoke. \nWe have members attending that are experienced in all aspects of firearms safety. We also have members that offer their services as range officers. Range Officer/s ensure that Firearms are not loaded while range is not open for shooting. Firearms are in rakes. All shooters have the appropriate safety equipment. They advise shooters when the range is open and when they are able to load their firearms and commence firing whilst ensuring all are shooting in safe and professional manner. \nGenerally\, the days are quite informal with members using an amazing array of Rifles from many Era’s ranging from the 1900’s military rifles to the latest models of modern sporting rifles. \nIn February\, we hold a family fun day. We have a series of events for all the family. Many of these events have trophies that are a family fun day. We have a series of events for all the family. Many of these events have trophies that are contested for amongst the members that qualify for that particular event. \nThinking of coming along??? Remember good solid footwear\, warm outdoor clothing\, Drink\, and nibbles to kerb the hunger and very importantly Eye and Ear protection.
URL:https://www.wellingtonantiquearms.org.nz/event/range-day-18th-december/
LOCATION:Hutt Valley Deer Stalkers Range\, Kaitoke\, New Zealand
CATEGORIES:Range Day
ATTACH;FMTTYPE=image/jpeg:https://www.wellingtonantiquearms.org.nz/wp-content/uploads/2022/09/IMG_4008.jpg
END:VEVENT
BEGIN:VEVENT
DTSTART;TZID=UTC:20221120T090000
DTEND;TZID=UTC:20221120T160000
DTSTAMP:20260423T102739
CREATED:20220920T212309Z
LAST-MODIFIED:20220920T212309Z
UID:654-1668934800-1668960000@www.wellingtonantiquearms.org.nz
SUMMARY:Range Day - 20th November
DESCRIPTION:As a club\, we run organized range shooting days over the summer months. These are held at the Hutt Valley Deer Stalkers Range in Kaitoke. \nWe have members attending that are experienced in all aspects of firearms safety. We also have members that offer their services as range officers. Range Officer/s ensure that Firearms are not loaded while range is not open for shooting. Firearms are in rakes. All shooters have the appropriate safety equipment. They advise shooters when the range is open and when they are able to load their firearms and commence firing whilst ensuring all are shooting in safe and professional manner. \nGenerally\, the days are quite informal with members using an amazing array of Rifles from many Era’s ranging from the 1900’s military rifles to the latest models of modern sporting rifles. \nIn February\, we hold a family fun day. We have a series of events for all the family. Many of these events have trophies that are a family fun day. We have a series of events for all the family. Many of these events have trophies that are contested for amongst the members that qualify for that particular event. \nThinking of coming along??? Remember good solid footwear\, warm outdoor clothing\, Drink\, and nibbles to kerb the hunger and very importantly Eye and Ear protection.
URL:https://www.wellingtonantiquearms.org.nz/event/range-day-20th-november/
LOCATION:Hutt Valley Deer Stalkers Range\, Kaitoke\, New Zealand
CATEGORIES:Range Day
ATTACH;FMTTYPE=image/jpeg:https://www.wellingtonantiquearms.org.nz/wp-content/uploads/2022/09/IMG_4008.jpg
END:VEVENT
BEGIN:VEVENT
DTSTART;TZID=UTC:20221016T090000
DTEND;TZID=UTC:20221016T160000
DTSTAMP:20260423T102739
CREATED:20220920T211955Z
LAST-MODIFIED:20220920T211955Z
UID:651-1665910800-1665936000@www.wellingtonantiquearms.org.nz
SUMMARY:Range Day - 16th October
DESCRIPTION:As a club\, we run organized range shooting days over the summer months. These are held at the Hutt Valley Deer Stalkers Range in Kaitoke. \nWe have members attending that are experienced in all aspects of firearms safety. We also have members that offer their services as range officers. Range Officer/s ensure that Firearms are not loaded while range is not open for shooting. Firearms are in rakes. All shooters have the appropriate safety equipment. They advise shooters when the range is open and when they are able to load their firearms and commence firing whilst ensuring all are shooting in safe and professional manner. \nGenerally\, the days are quite informal with members using an amazing array of Rifles from many Era’s ranging from the 1900’s military rifles to the latest models of modern sporting rifles. \nIn February\, we hold a family fun day. We have a series of events for all the family. Many of these events have trophies that are a family fun day. We have a series of events for all the family. Many of these events have trophies that are contested for amongst the members that qualify for that particular event. \nThinking of coming along??? Remember good solid footwear\, warm outdoor clothing\, Drink\, and nibbles to kerb the hunger and very importantly Eye and Ear protection.
URL:https://www.wellingtonantiquearms.org.nz/event/range-day-16th-october/
LOCATION:Hutt Valley Deer Stalkers Range\, Kaitoke\, New Zealand
CATEGORIES:Range Day
ATTACH;FMTTYPE=image/jpeg:https://www.wellingtonantiquearms.org.nz/wp-content/uploads/2022/09/IMG_4008.jpg
END:VEVENT
END:VCALENDAR